BEGIN:VCALENDAR
VERSION:2.0
PRODID:-//ChamberMaster//Event Calendar 2.0//EN
METHOD:PUBLISH
X-PUBLISHED-TTL:P3D
REFRESH-INTERVAL:P3D
CALSCALE:GREGORIAN
BEGIN:VEVENT
DTSTART;VALUE=DATE:20070209
DTEND;VALUE=DATE:20070211
TRANSP:TRANSPARENT
X-MICROSOFT-CDO-ALLDAYEVENT:TRUE
SUMMARY:''Unity in the Community''
DESCRIPTION:Come join in on the fun for the 2007 Black History Celebration "Unity in the Community"!\n\n\n\nFriday\, February 9th at 7:00pm - The 3rd Annual Black History Fashion Show at Easley Chapel United Methodist Church\n\n\n\nSaturday\, February 10th at 10:00am to 5:30pm - Celebration featuring:  Speakers\, Vendors\, Step Performances\, Live Music\, Fellowship and Children's Activities as well as The Black History Parade at 2:00pm at Easley Chapel United Methodist Church\n\n\n\nThe Parade will begin on Pendleton St. at EHS\, turn left on Main St. and turn left at South 1st St.\, ending at EHS.\n\n\n\nIn case of rain\, the celebration will take place on February 16th and 17th.\n\n\n\nFor more information call:  Elizabeth Gramblin at (864) 859-7320 or James Breazealle at (864) 230-1231
X-ALT-DESC;FMTTYPE=text/html:Come join in on the fun for the 2007 Black History Celebration "Unity in the Community"!<br><br>\n\nFriday\, February 9th at 7:00pm - The 3rd Annual Black History Fashion Show at Easley Chapel United Methodist Church<br><br>\n\nSaturday\, February 10th at 10:00am to 5:30pm - Celebration featuring:  Speakers\, Vendors\, Step Performances\, Live Music\, Fellowship and Children's Activities as well as The Black History Parade at 2:00pm at Easley Chapel United Methodist Church<br><br>\n\nThe Parade will begin on Pendleton St. at EHS\, turn left on Main St. and turn left at South 1st St.\, ending at EHS.<br><br>\n\nIn case of rain\, the celebration will take place on February 16th and 17th.<br><br>\n\nFor more information call:  Elizabeth Gramblin at (864) 859-7320 or James Breazealle at (864) 230-1231
LOCATION:Easley Chapel United Methodist Church\, Easley\, SC 29640
UID:e.3091.491
SEQUENCE:3
DTSTAMP:20260421T094908Z
URL:http://anedersonsc.chambermaster.com/events/details/unity-in-the-community-491
END:VEVENT

END:VCALENDAR
