BEGIN:VCALENDAR
VERSION:2.0
PRODID:-//ChamberMaster//Event Calendar 2.0//EN
METHOD:PUBLISH
X-PUBLISHED-TTL:P3D
REFRESH-INTERVAL:P3D
CALSCALE:GREGORIAN
BEGIN:VEVENT
DTSTART:20070120T140000Z
DTEND:20070120T180000Z
X-MICROSOFT-CDO-ALLDAYEVENT:FALSE
SUMMARY:Educational Symposium
DESCRIPTION:An informative symposium focusing on national\, state and local educational ''hot topics.''\n\n\n\nJoin these educational leaders as they discuss issues impacting the education of our children from kindergarten through high school. Participants will represent a variety of approaches to education including home schooling\, Christian schools\, Montessori and traditional models.\n\n  \n\nThe Symposium is open to the community\, parents\, educators\, and all who are interested in today's research in the educational field.  This event is free of charge.\n\n\n\nSessions:\n\n\n\nEducation for an Uncertain Future- Dr. Paul Epstein\nPanelists: Pat Coffey\, Curriculum Coordinator- Montessori School of Anderson\nMary Ann Daly\, Principal- St. Joseph's \nPatti Newton\, Anderson Home School Association\n\n\n\nThe State Department's Study of High Schools\nPresenter: Eliza Gallagher\, Director of The Academy at Montessori High School\n\n\n\nSeptember 11th Newsweek Article ''The New First Grade- Too Much Too Soon?''\nPresenter:  Dr. Jim Mahaffey\nAdjunct Professor of Early Childhood and Elementary Education\, Anderson University \nPanelists:  Pat Coffey\, Curriculum Coordinator- Montessori School of Anderson\nMary Ann Daly\, Principal- St. Joseph's\nPatti Newton\, Anderson Home School Association\n\n\n\nImplications of the Media on Children's Language Development- Ann Epstein\, PhD\n\n\n\nFor more information\, contact:\n\n\nKaren Holt\, Director\, Montessori School of Anderson\n\n\n864-226-5344
X-ALT-DESC;FMTTYPE=text/html:An informative symposium focusing on national\, state and local educational ''hot topics.''<br><br>\n\nJoin these educational leaders as they discuss issues impacting the education of our children from kindergarten through high school. Participants will represent a variety of approaches to education including home schooling\, Christian schools\, Montessori and traditional models.<br><br>  \n\nThe Symposium is open to the community\, parents\, educators\, and all who are interested in today's research in the educational field.  This event is free of charge.<br><br>\n\nSessions:<br><br>\n\nEducation for an Uncertain Future- Dr. Paul Epstein\nPanelists: Pat Coffey\, Curriculum Coordinator- Montessori School of Anderson\nMary Ann Daly\, Principal- St. Joseph's \nPatti Newton\, Anderson Home School Association<br><br>\n\nThe State Department's Study of High Schools\nPresenter: Eliza Gallagher\, Director of The Academy at Montessori High School<br><br>\n\nSeptember 11th Newsweek Article ''The New First Grade- Too Much Too Soon?''\nPresenter:  Dr. Jim Mahaffey\nAdjunct Professor of Early Childhood and Elementary Education\, Anderson University \nPanelists:  Pat Coffey\, Curriculum Coordinator- Montessori School of Anderson\nMary Ann Daly\, Principal- St. Joseph's\nPatti Newton\, Anderson Home School Association<br><br>\n\nImplications of the Media on Children's Language Development- Ann Epstein\, PhD<br><br>\n\nFor more information\, contact:<br><br>\nKaren Holt\, Director\, Montessori School of Anderson<br><br>\n864-226-5344\n\n\n\n
LOCATION:Anderson County Library - B & C meeting rooms\, Anderson\, SC 29621
UID:e.3091.487
SEQUENCE:3
DTSTAMP:20260420T211533Z
URL:http://anedersonsc.chambermaster.com/events/details/educational-symposium-487
END:VEVENT

END:VCALENDAR
