BEGIN:VCALENDAR
VERSION:2.0
PRODID:-//ChamberMaster//Event Calendar 2.0//EN
METHOD:PUBLISH
X-PUBLISHED-TTL:P3D
REFRESH-INTERVAL:P3D
CALSCALE:GREGORIAN
BEGIN:VEVENT
DTSTART:20221123T140000Z
DTEND:20221123T160000Z
X-MICROSOFT-CDO-ALLDAYEVENT:FALSE
SUMMARY:Drumstick Dash
DESCRIPTION:5K Run and 1 Mile Fun Run Benefiting Area 14 Anderson County Special OIympics.
X-ALT-DESC;FMTTYPE=text/html:5K Run and 1 Mile Fun Run Benefiting Area 14 Anderson County Special OIympics.
LOCATION:Anderson Lights of Hope 150 Rose Valley Blvd Anderson SC 29625
UID:e.3091.11531
SEQUENCE:3
DTSTAMP:20260424T211646Z
URL:http://anedersonsc.chambermaster.com/events/details/drumstick-dash-11531
END:VEVENT

END:VCALENDAR
