BEGIN:VCALENDAR
VERSION:2.0
PRODID:-//ChamberMaster//Event Calendar 2.0//EN
METHOD:PUBLISH
X-PUBLISHED-TTL:P3D
REFRESH-INTERVAL:P3D
CALSCALE:GREGORIAN
BEGIN:VEVENT
DTSTART:20060505T220000Z
DTEND:20060507T023000Z
X-MICROSOFT-CDO-ALLDAYEVENT:FALSE
SUMMARY:Blue Ridge Fest
DESCRIPTION:Blue Ridge Fest will be ushering it in May 5 - 6!\n\nBlue Ridge Fest's Beach Night Cruise-in\, will roll into high gear on Friday\, May 5\, from 6-10:30p.m.\n\nFifteen dollars admits up to four in a classic car ( 1979 or older ).  Individual tickets are $15/Adults\; $8/Children\; Children 6 & under are free.\n\nOn Saturday\, May 6\, Blue Ridge Fest will host a Charity Motorcycle Ride.  Registration for the event begins at 8:30 a.m.  The first motorcycles will leave at 9:00 a.m. and the last will roll out by 11:00 a.m.  Registration fee is $25 and additional hands can be purchased for $10.\n\nAll proceeds from the Blue Ridge Fest will be donated to 12 upstate area charities.  For more information on the Blue Ridge Fest\, contact 1-800-240-3400 or visit our website at www.blueridgefest.com
X-ALT-DESC;FMTTYPE=text/html:Blue Ridge Fest will be ushering it in May 5 - 6!<br><br>Blue Ridge Fest's Beach Night Cruise-in\, will roll into high gear on Friday\, May 5\, from 6-10:30p.m.<br><br>Fifteen dollars admits up to four in a classic car ( 1979 or older ).  Individual tickets are $15/Adults\; $8/Children\; Children 6 & under are free.<br><br>On Saturday\, May 6\, Blue Ridge Fest will host a Charity Motorcycle Ride.  Registration for the event begins at 8:30 a.m.  The first motorcycles will leave at 9:00 a.m. and the last will roll out by 11:00 a.m.  Registration fee is $25 and additional hands can be purchased for $10.<br><br>All proceeds from the Blue Ridge Fest will be donated to 12 upstate area charities.  For more information on the Blue Ridge Fest\, contact 1-800-240-3400 or visit our website at www.blueridgefest.com
LOCATION:
UID:e.3091.399
SEQUENCE:3
DTSTAMP:20260424T212147Z
URL:http://anedersonsc.chambermaster.com/events/details/blue-ridge-fest-399
END:VEVENT

END:VCALENDAR
