BEGIN:VCALENDAR
VERSION:2.0
PRODID:-//ChamberMaster//Event Calendar 2.0//EN
METHOD:PUBLISH
X-PUBLISHED-TTL:P3D
REFRESH-INTERVAL:P3D
CALSCALE:GREGORIAN
BEGIN:VEVENT
DTSTART:20071005T140000Z
DTEND:20071005T180000Z
X-MICROSOFT-CDO-ALLDAYEVENT:FALSE
SUMMARY:5th Annual Rock-A-Thon
DESCRIPTION:Residents\, staff\, family & friends of Anderson Place "Rock With All Their Hearts" to raise funds for Alzheimer's Disease. All funds raised stay in the Upstate for services & support of families.\n\n\n\nThere will be Food and Refreshments\, Entertainment\, Door Prizes\, Vendors and Much More!\n\n\n\nTo sign up or make a donation\, please call Jami Sexton or Diane Leary at 261-3875.
X-ALT-DESC;FMTTYPE=text/html:Residents\, staff\, family & friends of Anderson Place "Rock With All Their Hearts" to raise funds for Alzheimer's Disease. All funds raised stay in the Upstate for services & support of families.<br><br>\n\nThere will be Food and Refreshments\, Entertainment\, Door Prizes\, Vendors and Much More!<br><br>\n\nTo sign up or make a donation\, please call Jami Sexton or Diane Leary at 261-3875.
LOCATION:Anderson Place Retirement Community\, Anderson\, SC 29621
UID:e.3091.632
SEQUENCE:3
DTSTAMP:20260424T025623Z
URL:http://anedersonsc.chambermaster.com/events/details/5th-annual-rock-a-thon-632
END:VEVENT

END:VCALENDAR
